{
 "currentVersion": 11.3,
 "serviceDescription": "Lotharingia_Affine",
 "name": "Lotharingia_Affine",
 "description": "",
 "extent": {
  "xmin": 5.096135500333801,
  "ymin": 47.732994751318586,
  "xmax": 7.804995844872373,
  "ymax": 50.004841631424725,
  "spatialReference": {
   "wkid": 4326,
   "latestWkid": 4326
  }
 },
 "initialExtent": {
  "xmin": 5.096135500333801,
  "ymin": 47.732994751318586,
  "xmax": 7.804995844872373,
  "ymax": 50.004841631424725,
  "spatialReference": {
   "wkid": 4326,
   "latestWkid": 4326
  }
 },
 "fullExtent": {
  "xmin": 5.096135500333801,
  "ymin": 47.732994751318586,
  "xmax": 7.804995844872373,
  "ymax": 50.004841631424725,
  "spatialReference": {
   "wkid": 4326,
   "latestWkid": 4326
  }
 },
 "sortableFields": "",
 "bandCount": 3,
 "pixelType": "U8",
 "minValues": [
  7,
  13,
  5
 ],
 "maxValues": [
  255,
  237,
  214
 ],
 "meanValues": [
  185.3475654421139,
  165.4990380753097,
  143.13180653833473
 ],
 "stdvValues": [
  59.235439851722184,
  57.45700363807666,
  54.24443623872016
 ],
 "hasMultidimensions": false,
 "pixelSizeX": 6.146721907280625E-4,
 "pixelSizeY": 3.745214111615791E-4,
 "meanPixelSize": 55.05826402915954,
 "datasetFormat": "FGDBR",
 "uncompressedSize": 80198586,
 "blockWidth": 128,
 "blockHeight": 128,
 "compressionType": "LZ77",
 "bandNames": [
  "Band_1",
  "Band_2",
  "Band_3"
 ],
 "allowCopy": true,
 "allowAnalysis": true,
 "itemAccess": false,
 "inspectionCapabilities": "",
 "minPixelSize": 0,
 "maxPixelSize": 0,
 "copyrightText": "",
 "serviceDataType": "esriImageServiceDataTypeRGB",
 "serviceSourceType": "esriImageServiceSourceTypeDataset",
 "objectIdField": "",
 "fields": [],
 "capabilities": "Image,Metadata,Mensuration",
 "defaultMosaicMethod": "Center",
 "allowedMosaicMethods": "",
 "sortField": "",
 "sortValue": null,
 "sortAscending": true,
 "mosaicOperator": "First",
 "defaultCompressionQuality": 75,
 "defaultResamplingMethod": "Bilinear",
 "maxImageHeight": 4100,
 "maxImageWidth": 15000,
 "allowRasterFunction": true,
 "rasterFunctionInfos": [
  {
   "name": "None",
   "description": "",
   "help": ""
  }
 ],
 "rasterTypeInfos": [
  {
   "name": "Raster Dataset",
   "description": "Supports all ArcGIS Raster Datasets",
   "help": ""
  }
 ],
 "mensurationCapabilities": "Basic",
 "hasHistograms": true,
 "hasColormap": false,
 "hasRasterAttributeTable": false,
 "minScale": 0,
 "maxScale": 0,
 "exportTilesAllowed": false,
 "supportsStatistics": false,
 "supportsAdvancedQueries": false,
 "editFieldsInfo": null,
 "ownershipBasedAccessControlForRasters": null,
 "allowComputeTiePoints": false,
 "useStandardizedQueries": true,
 "advancedQueryCapabilities": {
  "useStandardizedQueries": true,
  "supportsStatistics": false,
  "supportsOrderBy": false,
  "supportsDistinct": false,
  "supportsPagination": false
 },
 "spatialReference": {
  "wkid": 4326,
  "latestWkid": 4326
 }
}
