View In:
ArcGIS JavaScript
ArcGIS Online Map Viewer
ArcGIS Earth
Service Description: FlowDirection2018
Name: FlowDirection2018
Description:
Single Fused Map Cache: false
Extent:
XMin: -9650117.635480033
YMin: 4718759.341519617
XMax: -9606567.793412853
YMax: 4774235.25053447
Spatial Reference: 102100
(3857)
LatestVCSWkid(0)
Initial Extent:
XMin: -9650117.635480033
YMin: 4718759.341519617
XMax: -9606567.793412853
YMax: 4774235.25053447
Spatial Reference: 102100
(3857)
LatestVCSWkid(0)
Full Extent:
XMin: -9650117.635480033
YMin: 4718759.341519617
XMax: -9606567.793412853
YMax: 4774235.25053447
Spatial Reference: 102100
(3857)
LatestVCSWkid(0)
Pixel Size X: 0.7620003161250735
Pixel Size Y: 0.7620003161250725
Band Count: 1
Pixel Type: U16
RasterFunction Infos: {"rasterFunctionInfos": [{
"name": "None",
"description": "",
"help": ""
}]}
Mensuration Capabilities: Basic
Inspection Capabilities:
Has Histograms: true
Has Colormap: false
Has Multi Dimensions : false
Rendering Rule:
Min Scale: 0
Max Scale: 0
Copyright Text:
Service Data Type: esriImageServiceDataTypeGeneric
Min Values: 45
Max Values: 360
Mean Values: 205.28630766023812
Standard Deviation Values: 100.22415006162232
Object ID Field:
Fields:
None
Default Mosaic Method: Center
Allowed Mosaic Methods:
SortField:
SortValue: null
Mosaic Operator: First
Default Compression Quality: 75
Default Resampling Method: Bilinear
Max Record Count: null
Max Image Height: 4100
Max Image Width: 15000
Max Download Image Count: null
Max Mosaic Image Count: null
Allow Raster Function: true
Allow Copy: true
Allow Analysis: true
Allow Compute TiePoints: false
Supports Statistics: false
Supports Advanced Queries: false
Use StandardizedQueries: true
Raster Type Infos:
Name: Raster Dataset
Description: Supports all ArcGIS Raster Datasets
Help:
Has Raster Attribute Table: true
Edit Fields Info: null
Ownership Based AccessControl For Rasters: null
Child Resources:
Info
Raster Attribute Table
Histograms
Statistics
Key Properties
Legend
Raster Function Infos
Supported Operations:
Export Image
Identify
Measure
Compute Histograms
Compute Statistics Histograms
Get Samples
Compute Class Statistics
Query Boundary
Compute Pixel Location
Compute Angles
Validate
Project