View In:
ArcGIS JavaScript
ArcGIS Online Map Viewer
ArcGIS Earth
Service Description: Lotharingia_Spline
Name: Lotharingia_Spline
Description:
Single Fused Map Cache: false
Extent:
XMin: 5.2321066771115525
YMin: 47.71597191742528
XMax: 8.233862007888158
YMax: 50.315118000208855
Spatial Reference: 4326
(4326)
LatestVCSWkid(0)
Initial Extent:
XMin: 5.2321066771115525
YMin: 47.71597191742528
XMax: 8.233862007888158
YMax: 50.315118000208855
Spatial Reference: 4326
(4326)
LatestVCSWkid(0)
Full Extent:
XMin: 5.2321066771115525
YMin: 47.71597191742528
XMax: 8.233862007888158
YMax: 50.315118000208855
Spatial Reference: 4326
(4326)
LatestVCSWkid(0)
Pixel Size X: 6.811334991551181E-4
Pixel Size Y: 4.2847775845426583E-4
Band Count: 3
Pixel Type: U8
RasterFunction Infos: {"rasterFunctionInfos": [{
"name": "None",
"description": "",
"help": ""
}]}
Mensuration Capabilities: Basic
Inspection Capabilities:
Has Histograms: true
Has Colormap: false
Has Multi Dimensions : false
Rendering Rule:
Min Scale: 0
Max Scale: 0
Copyright Text:
Service Data Type: esriImageServiceDataTypeRGB
Min Values: 7, 13, 5
Max Values: 255, 237, 214
Mean Values: 185.3475654421139, 165.4990380753097, 143.13180653833473
Standard Deviation Values: 59.235439851722184, 57.45700363807666, 54.24443623872016
Object ID Field:
Fields:
None
Default Mosaic Method: Center
Allowed Mosaic Methods:
SortField:
SortValue: null
Mosaic Operator: First
Default Compression Quality: 75
Default Resampling Method: Bilinear
Max Record Count: null
Max Image Height: 4100
Max Image Width: 15000
Max Download Image Count: null
Max Mosaic Image Count: null
Allow Raster Function: true
Allow Copy: true
Allow Analysis: true
Allow Compute TiePoints: false
Supports Statistics: false
Supports Advanced Queries: false
Use StandardizedQueries: true
Raster Type Infos:
Name: Raster Dataset
Description: Supports all ArcGIS Raster Datasets
Help:
Has Raster Attribute Table: false
Edit Fields Info: null
Ownership Based AccessControl For Rasters: null
Child Resources:
Info
Histograms
Statistics
Key Properties
Legend
Raster Function Infos
Supported Operations:
Export Image
Identify
Measure
Compute Histograms
Compute Statistics Histograms
Get Samples
Compute Class Statistics
Query Boundary
Compute Pixel Location
Compute Angles
Validate
Project